BEGIN:VCALENDAR
VERSION:2.0
PRODID:-//Balboa Peninsula Point Association - ECPv6.15.20//NONSGML v1.0//EN
CALSCALE:GREGORIAN
METHOD:PUBLISH
X-WR-CALNAME:Balboa Peninsula Point Association
X-ORIGINAL-URL:https://bppa-nb.com
X-WR-CALDESC:Events for Balboa Peninsula Point Association
REFRESH-INTERVAL;VALUE=DURATION:PT1H
X-Robots-Tag:noindex
X-PUBLISHED-TTL:PT1H
BEGIN:VTIMEZONE
TZID:America/Los_Angeles
BEGIN:DAYLIGHT
TZOFFSETFROM:-0800
TZOFFSETTO:-0700
TZNAME:PDT
DTSTART:20240310T100000
END:DAYLIGHT
BEGIN:STANDARD
TZOFFSETFROM:-0700
TZOFFSETTO:-0800
TZNAME:PST
DTSTART:20241103T090000
END:STANDARD
BEGIN:DAYLIGHT
TZOFFSETFROM:-0800
TZOFFSETTO:-0700
TZNAME:PDT
DTSTART:20250309T100000
END:DAYLIGHT
BEGIN:STANDARD
TZOFFSETFROM:-0700
TZOFFSETTO:-0800
TZNAME:PST
DTSTART:20251102T090000
END:STANDARD
BEGIN:DAYLIGHT
TZOFFSETFROM:-0800
TZOFFSETTO:-0700
TZNAME:PDT
DTSTART:20260308T100000
END:DAYLIGHT
BEGIN:STANDARD
TZOFFSETFROM:-0700
TZOFFSETTO:-0800
TZNAME:PST
DTSTART:20261101T090000
END:STANDARD
END:VTIMEZONE
BEGIN:VEVENT
DTSTART;TZID=America/Los_Angeles:20250630T170000
DTEND;TZID=America/Los_Angeles:20250630T190000
DTSTAMP:20260423T090633
CREATED:20250605T210013Z
LAST-MODIFIED:20250605T210013Z
UID:10000129-1751302800-1751310000@bppa-nb.com
SUMMARY:Family Games & Smores
DESCRIPTION:
URL:https://bppa-nb.com/event/family-games-smores/
LOCATION:Bay Beach\, 2200 Channel Rd\, Newport Beach\, CA\, 92661\, United States
ATTACH;FMTTYPE=image/jpeg:https://bppa-nb.com/wp-content/uploads/2025/06/BPPA-4th-of-July-Events-week.jpg
ORGANIZER;CN="Christy Ruppert":MAILTO:christyruppert@gmail.com
END:VEVENT
BEGIN:VEVENT
DTSTART;TZID=America/Los_Angeles:20250627T180000
DTEND;TZID=America/Los_Angeles:20250627T200000
DTSTAMP:20260423T090633
CREATED:20250526T173518Z
LAST-MODIFIED:20250605T210413Z
UID:10000008-1751047200-1751054400@bppa-nb.com
SUMMARY:Friday Nights at the Bay
DESCRIPTION:Come join us each Friday this summer! The BBQ is open to use\, make dinner for your family\, play games and hang out with your fellow BPPA neighbors at the bay.
URL:https://bppa-nb.com/event/friday-nights-at-the-bay/2025-06-27/
LOCATION:Bay Beach\, 2200 Channel Rd\, Newport Beach\, CA\, 92661\, United States
ATTACH;FMTTYPE=image/png:https://bppa-nb.com/wp-content/uploads/2025/05/ChatGPT-Image-May-26-2025-12_41_48-PM-e1749157867700.png
ORGANIZER;CN="Christy Ruppert":MAILTO:christyruppert@gmail.com
END:VEVENT
BEGIN:VEVENT
DTSTART;TZID=America/Los_Angeles:20250620T180000
DTEND;TZID=America/Los_Angeles:20250620T200000
DTSTAMP:20260423T090633
CREATED:20250526T173518Z
LAST-MODIFIED:20250605T210413Z
UID:10000007-1750442400-1750449600@bppa-nb.com
SUMMARY:Friday Nights at the Bay
DESCRIPTION:Come join us each Friday this summer! The BBQ is open to use\, make dinner for your family\, play games and hang out with your fellow BPPA neighbors at the bay.
URL:https://bppa-nb.com/event/friday-nights-at-the-bay/2025-06-20/
LOCATION:Bay Beach\, 2200 Channel Rd\, Newport Beach\, CA\, 92661\, United States
ATTACH;FMTTYPE=image/png:https://bppa-nb.com/wp-content/uploads/2025/05/ChatGPT-Image-May-26-2025-12_41_48-PM-e1749157867700.png
ORGANIZER;CN="Christy Ruppert":MAILTO:christyruppert@gmail.com
END:VEVENT
BEGIN:VEVENT
DTSTART;TZID=America/Los_Angeles:20250613T170000
DTEND;TZID=America/Los_Angeles:20250613T200000
DTSTAMP:20260423T090633
CREATED:20250525T215900Z
LAST-MODIFIED:20250526T192950Z
UID:10000001-1749834000-1749844800@bppa-nb.com
SUMMARY:Membership Drive & Summer Kickoff
DESCRIPTION:
URL:https://bppa-nb.com/event/membership-drive-summer-kickoff/
LOCATION:Bay Beach\, 2200 Channel Rd\, Newport Beach\, CA\, 92661\, United States
ATTACH;FMTTYPE=image/png:https://bppa-nb.com/wp-content/uploads/2025/05/Memberhsip-Drive-e1749157666612.png
ORGANIZER;CN="Christy Ruppert":MAILTO:christyruppert@gmail.com
END:VEVENT
END:VCALENDAR