BEGIN:VCALENDAR
VERSION:2.0
PRODID:-//Balboa Peninsula Point Association - ECPv6.15.20//NONSGML v1.0//EN
CALSCALE:GREGORIAN
METHOD:PUBLISH
X-ORIGINAL-URL:https://bppa-nb.com
X-WR-CALDESC:Events for Balboa Peninsula Point Association
REFRESH-INTERVAL;VALUE=DURATION:PT1H
X-Robots-Tag:noindex
X-PUBLISHED-TTL:PT1H
BEGIN:VTIMEZONE
TZID:America/Los_Angeles
BEGIN:DAYLIGHT
TZOFFSETFROM:-0800
TZOFFSETTO:-0700
TZNAME:PDT
DTSTART:20250309T100000
END:DAYLIGHT
BEGIN:STANDARD
TZOFFSETFROM:-0700
TZOFFSETTO:-0800
TZNAME:PST
DTSTART:20251102T090000
END:STANDARD
BEGIN:DAYLIGHT
TZOFFSETFROM:-0800
TZOFFSETTO:-0700
TZNAME:PDT
DTSTART:20260308T100000
END:DAYLIGHT
BEGIN:STANDARD
TZOFFSETFROM:-0700
TZOFFSETTO:-0800
TZNAME:PST
DTSTART:20261101T090000
END:STANDARD
BEGIN:DAYLIGHT
TZOFFSETFROM:-0800
TZOFFSETTO:-0700
TZNAME:PDT
DTSTART:20270314T100000
END:DAYLIGHT
BEGIN:STANDARD
TZOFFSETFROM:-0700
TZOFFSETTO:-0800
TZNAME:PST
DTSTART:20271107T090000
END:STANDARD
END:VTIMEZONE
BEGIN:VEVENT
DTSTART;TZID=America/Los_Angeles:20260612T170000
DTEND;TZID=America/Los_Angeles:20260612T200000
DTSTAMP:20260423T041959
CREATED:20260125T014546Z
LAST-MODIFIED:20260125T014546Z
UID:10000227-1781283600-1781294400@bppa-nb.com
SUMMARY:Membership Drive & Summer Kickoff
DESCRIPTION:
URL:https://bppa-nb.com/event/membership-drive-summer-kickoff-2/
LOCATION:Bay Beach\, 2200 Channel Rd\, Newport Beach\, CA\, 92661\, United States
ATTACH;FMTTYPE=image/png:https://bppa-nb.com/wp-content/uploads/2025/05/Memberhsip-Drive-e1749157666612.png
ORGANIZER;CN="Christy Ruppert":MAILTO:christyruppert@gmail.com
END:VEVENT
BEGIN:VEVENT
DTSTART;TZID=America/Los_Angeles:20260616T080000
DTEND;TZID=America/Los_Angeles:20260616T083000
DTSTAMP:20260423T041959
CREATED:20260125T014500Z
LAST-MODIFIED:20260125T014500Z
UID:10000226-1781596800-1781598600@bppa-nb.com
SUMMARY:Junior Guard Send-Off Tradition
DESCRIPTION:We will be hosting a JG meet-up at L Street Park for all the Peninsula Point JGs on their first day.  This is a great way for all our JGs and families to meet each other\, eat some donuts\, and bike together.
URL:https://bppa-nb.com/event/junior-guard-send-off-tradition-2/
LOCATION:L Street Park\, 327 L Street\, Newport Beach\, CA\, 92661\, United States
ATTACH;FMTTYPE=image/jpeg:https://bppa-nb.com/wp-content/uploads/2023/04/IMG_3644-1-e1749157747493.jpg
ORGANIZER;CN="Christy Ruppert":MAILTO:christyruppert@gmail.com
END:VEVENT
BEGIN:VEVENT
DTSTART;TZID=America/Los_Angeles:20260619T180000
DTEND;TZID=America/Los_Angeles:20260619T200000
DTSTAMP:20260423T041959
CREATED:20260125T014354Z
LAST-MODIFIED:20260125T014354Z
UID:10000216-1781892000-1781899200@bppa-nb.com
SUMMARY:Friday Nights at the Bay
DESCRIPTION:Come join us each Friday this summer! The BBQ is open to use\, make dinner for your family\, play games and hang out with your fellow BPPA neighbors at the bay.
URL:https://bppa-nb.com/event/friday-nights-at-the-bay-2/2026-06-19/
LOCATION:Bay Beach\, 2200 Channel Rd\, Newport Beach\, CA\, 92661\, United States
ATTACH;FMTTYPE=image/png:https://bppa-nb.com/wp-content/uploads/2025/05/ChatGPT-Image-May-26-2025-12_41_48-PM-e1749157867700.png
ORGANIZER;CN="Christy Ruppert":MAILTO:christyruppert@gmail.com
END:VEVENT
BEGIN:VEVENT
DTSTART;TZID=America/Los_Angeles:20260626T180000
DTEND;TZID=America/Los_Angeles:20260626T200000
DTSTAMP:20260423T041959
CREATED:20260125T014354Z
LAST-MODIFIED:20260125T014354Z
UID:10000217-1782496800-1782504000@bppa-nb.com
SUMMARY:Friday Nights at the Bay
DESCRIPTION:Come join us each Friday this summer! The BBQ is open to use\, make dinner for your family\, play games and hang out with your fellow BPPA neighbors at the bay.
URL:https://bppa-nb.com/event/friday-nights-at-the-bay-2/2026-06-26/
LOCATION:Bay Beach\, 2200 Channel Rd\, Newport Beach\, CA\, 92661\, United States
ATTACH;FMTTYPE=image/png:https://bppa-nb.com/wp-content/uploads/2025/05/ChatGPT-Image-May-26-2025-12_41_48-PM-e1749157867700.png
ORGANIZER;CN="Christy Ruppert":MAILTO:christyruppert@gmail.com
END:VEVENT
BEGIN:VEVENT
DTSTART;TZID=America/Los_Angeles:20260703T180000
DTEND;TZID=America/Los_Angeles:20260703T200000
DTSTAMP:20260423T041959
CREATED:20260125T014354Z
LAST-MODIFIED:20260125T014354Z
UID:10000218-1783101600-1783108800@bppa-nb.com
SUMMARY:Friday Nights at the Bay
DESCRIPTION:Come join us each Friday this summer! The BBQ is open to use\, make dinner for your family\, play games and hang out with your fellow BPPA neighbors at the bay.
URL:https://bppa-nb.com/event/friday-nights-at-the-bay-2/2026-07-03/
LOCATION:Bay Beach\, 2200 Channel Rd\, Newport Beach\, CA\, 92661\, United States
ATTACH;FMTTYPE=image/png:https://bppa-nb.com/wp-content/uploads/2025/05/ChatGPT-Image-May-26-2025-12_41_48-PM-e1749157867700.png
ORGANIZER;CN="Christy Ruppert":MAILTO:christyruppert@gmail.com
END:VEVENT
BEGIN:VEVENT
DTSTART;TZID=America/Los_Angeles:20260704T104500
DTEND;TZID=America/Los_Angeles:20260704T133000
DTSTAMP:20260423T041959
CREATED:20260125T014009Z
LAST-MODIFIED:20260125T014009Z
UID:10000201-1783161900-1783171800@bppa-nb.com
SUMMARY:4th of July Parade & TK Burger
DESCRIPTION:Join us for our annual 4th of July parade at L Street Park. There will be supplies to decorate your bikes\, scooters & wagons in the park starting at 9:30am. Line-up to walk in the parade starting at 10:45am. Please see the below with the line-up order below. \nThe parade will begin at 11am at L Street Park. There will be prizes for “Most Patriotic” Floats! We will end our parade in the park with TK Burger and Kona Ice for purchase. TK Burger and Kona Ice will serve from 11:30am-1pm. Day of event meal tickets (for TK) sell out fast\, please purchase your tickets below. \nWe need more volunteers! Please sign-up help \nWe will also have a live band at the park. The band will play from about 11:30am-1:30pm. We hope you can join us for this festive day of family fun. \nNew 4th of July gear! Check out the designs for short sleeve shirts\, long sleeve shirts (with all of the Newport lifeguard towers on it)\, hats\, tumblers\, and much more! Purchase items at the 4th of July event or online from Nesta Surf: https://www.nestahome.com/bppa \n\n  \nFull Scheudle\n9:30am:  Bike Decorating Starts \n\nLast minute orders of TK Burger begins — limited sales\, cash only $12\n\n10:45am:  Line-up for the parade \n\nFire Truck\nLifeguard Truck\nBPPA President\nUncle Sam & Lady Liberty\nBanner\nMarchingBand\nBikes/Scooters\nWalkers/Strollers\nFloats\nGolf Carts\nPolice\n\n11:00am:  Parade Starts \n11:30am:  TK Burger & Kona Ice begin serving & Live Band \n1:00pm:  TKBurger Stops Serving \n1:30pm: L Street Park Clean-up \n  \n 
URL:https://bppa-nb.com/event/4th-of-july-parade-tk-burger/
LOCATION:L Street Park\, 327 L Street\, Newport Beach\, CA\, 92661\, United States
ATTACH;FMTTYPE=image/jpeg:https://bppa-nb.com/wp-content/uploads/2022/12/DSC_9404-1024x680-2-e1749157825434.jpg
ORGANIZER;CN="Christy Ruppert":MAILTO:christyruppert@gmail.com
END:VEVENT
BEGIN:VEVENT
DTSTART;TZID=America/Los_Angeles:20260710T180000
DTEND;TZID=America/Los_Angeles:20260710T200000
DTSTAMP:20260423T041959
CREATED:20260125T014354Z
LAST-MODIFIED:20260125T014354Z
UID:10000219-1783706400-1783713600@bppa-nb.com
SUMMARY:Friday Nights at the Bay
DESCRIPTION:Come join us each Friday this summer! The BBQ is open to use\, make dinner for your family\, play games and hang out with your fellow BPPA neighbors at the bay.
URL:https://bppa-nb.com/event/friday-nights-at-the-bay-2/2026-07-10/
LOCATION:Bay Beach\, 2200 Channel Rd\, Newport Beach\, CA\, 92661\, United States
ATTACH;FMTTYPE=image/png:https://bppa-nb.com/wp-content/uploads/2025/05/ChatGPT-Image-May-26-2025-12_41_48-PM-e1749157867700.png
ORGANIZER;CN="Christy Ruppert":MAILTO:christyruppert@gmail.com
END:VEVENT
BEGIN:VEVENT
DTSTART;TZID=America/Los_Angeles:20260717T180000
DTEND;TZID=America/Los_Angeles:20260717T200000
DTSTAMP:20260423T041959
CREATED:20260125T014354Z
LAST-MODIFIED:20260125T014354Z
UID:10000220-1784311200-1784318400@bppa-nb.com
SUMMARY:Friday Nights at the Bay
DESCRIPTION:Come join us each Friday this summer! The BBQ is open to use\, make dinner for your family\, play games and hang out with your fellow BPPA neighbors at the bay.
URL:https://bppa-nb.com/event/friday-nights-at-the-bay-2/2026-07-17/
LOCATION:Bay Beach\, 2200 Channel Rd\, Newport Beach\, CA\, 92661\, United States
ATTACH;FMTTYPE=image/png:https://bppa-nb.com/wp-content/uploads/2025/05/ChatGPT-Image-May-26-2025-12_41_48-PM-e1749157867700.png
ORGANIZER;CN="Christy Ruppert":MAILTO:christyruppert@gmail.com
END:VEVENT
BEGIN:VEVENT
DTSTART;TZID=America/Los_Angeles:20260724T180000
DTEND;TZID=America/Los_Angeles:20260724T200000
DTSTAMP:20260423T041959
CREATED:20260125T014354Z
LAST-MODIFIED:20260125T014354Z
UID:10000221-1784916000-1784923200@bppa-nb.com
SUMMARY:Friday Nights at the Bay
DESCRIPTION:Come join us each Friday this summer! The BBQ is open to use\, make dinner for your family\, play games and hang out with your fellow BPPA neighbors at the bay.
URL:https://bppa-nb.com/event/friday-nights-at-the-bay-2/2026-07-24/
LOCATION:Bay Beach\, 2200 Channel Rd\, Newport Beach\, CA\, 92661\, United States
ATTACH;FMTTYPE=image/png:https://bppa-nb.com/wp-content/uploads/2025/05/ChatGPT-Image-May-26-2025-12_41_48-PM-e1749157867700.png
ORGANIZER;CN="Christy Ruppert":MAILTO:christyruppert@gmail.com
END:VEVENT
BEGIN:VEVENT
DTSTART;TZID=America/Los_Angeles:20260731T180000
DTEND;TZID=America/Los_Angeles:20260731T200000
DTSTAMP:20260423T041959
CREATED:20260125T014354Z
LAST-MODIFIED:20260125T014354Z
UID:10000222-1785520800-1785528000@bppa-nb.com
SUMMARY:Friday Nights at the Bay
DESCRIPTION:Come join us each Friday this summer! The BBQ is open to use\, make dinner for your family\, play games and hang out with your fellow BPPA neighbors at the bay.
URL:https://bppa-nb.com/event/friday-nights-at-the-bay-2/2026-07-31/
LOCATION:Bay Beach\, 2200 Channel Rd\, Newport Beach\, CA\, 92661\, United States
ATTACH;FMTTYPE=image/png:https://bppa-nb.com/wp-content/uploads/2025/05/ChatGPT-Image-May-26-2025-12_41_48-PM-e1749157867700.png
ORGANIZER;CN="Christy Ruppert":MAILTO:christyruppert@gmail.com
END:VEVENT
BEGIN:VEVENT
DTSTART;TZID=America/Los_Angeles:20260807T180000
DTEND;TZID=America/Los_Angeles:20260807T200000
DTSTAMP:20260423T041959
CREATED:20260125T014354Z
LAST-MODIFIED:20260125T014354Z
UID:10000223-1786125600-1786132800@bppa-nb.com
SUMMARY:Friday Nights at the Bay
DESCRIPTION:Come join us each Friday this summer! The BBQ is open to use\, make dinner for your family\, play games and hang out with your fellow BPPA neighbors at the bay.
URL:https://bppa-nb.com/event/friday-nights-at-the-bay-2/2026-08-07/
LOCATION:Bay Beach\, 2200 Channel Rd\, Newport Beach\, CA\, 92661\, United States
ATTACH;FMTTYPE=image/png:https://bppa-nb.com/wp-content/uploads/2025/05/ChatGPT-Image-May-26-2025-12_41_48-PM-e1749157867700.png
ORGANIZER;CN="Christy Ruppert":MAILTO:christyruppert@gmail.com
END:VEVENT
BEGIN:VEVENT
DTSTART;TZID=America/Los_Angeles:20260814T180000
DTEND;TZID=America/Los_Angeles:20260814T200000
DTSTAMP:20260423T041959
CREATED:20260125T014354Z
LAST-MODIFIED:20260125T014354Z
UID:10000224-1786730400-1786737600@bppa-nb.com
SUMMARY:Friday Nights at the Bay
DESCRIPTION:Come join us each Friday this summer! The BBQ is open to use\, make dinner for your family\, play games and hang out with your fellow BPPA neighbors at the bay.
URL:https://bppa-nb.com/event/friday-nights-at-the-bay-2/2026-08-14/
LOCATION:Bay Beach\, 2200 Channel Rd\, Newport Beach\, CA\, 92661\, United States
ATTACH;FMTTYPE=image/png:https://bppa-nb.com/wp-content/uploads/2025/05/ChatGPT-Image-May-26-2025-12_41_48-PM-e1749157867700.png
ORGANIZER;CN="Christy Ruppert":MAILTO:christyruppert@gmail.com
END:VEVENT
BEGIN:VEVENT
DTSTART;TZID=America/Los_Angeles:20260821T180000
DTEND;TZID=America/Los_Angeles:20260821T200000
DTSTAMP:20260423T041959
CREATED:20260125T014354Z
LAST-MODIFIED:20260125T014354Z
UID:10000225-1787335200-1787342400@bppa-nb.com
SUMMARY:Friday Nights at the Bay
DESCRIPTION:Come join us each Friday this summer! The BBQ is open to use\, make dinner for your family\, play games and hang out with your fellow BPPA neighbors at the bay.
URL:https://bppa-nb.com/event/friday-nights-at-the-bay-2/2026-08-21/
LOCATION:Bay Beach\, 2200 Channel Rd\, Newport Beach\, CA\, 92661\, United States
ATTACH;FMTTYPE=image/png:https://bppa-nb.com/wp-content/uploads/2025/05/ChatGPT-Image-May-26-2025-12_41_48-PM-e1749157867700.png
ORGANIZER;CN="Christy Ruppert":MAILTO:christyruppert@gmail.com
END:VEVENT
BEGIN:VEVENT
DTSTART;TZID=America/Los_Angeles:20260828T170000
DTEND;TZID=America/Los_Angeles:20260828T200000
DTSTAMP:20260423T041959
CREATED:20260125T014042Z
LAST-MODIFIED:20260125T014042Z
UID:10000202-1787936400-1787947200@bppa-nb.com
SUMMARY:Thank you\, First Responders
DESCRIPTION:
URL:https://bppa-nb.com/event/thank-you-first-responders-2/
LOCATION:Bay Beach\, 2200 Channel Rd\, Newport Beach\, CA\, 92661\, United States
ATTACH;FMTTYPE=image/jpeg:https://bppa-nb.com/wp-content/uploads/2023/04/IMG_4360-e1749157951390.jpg
ORGANIZER;CN="Christy Ruppert":MAILTO:christyruppert@gmail.com
END:VEVENT
BEGIN:VEVENT
DTSTART;TZID=America/Los_Angeles:20261024T120000
DTEND;TZID=America/Los_Angeles:20261024T150000
DTSTAMP:20260423T041959
CREATED:20260125T014121Z
LAST-MODIFIED:20260125T015225Z
UID:10000203-1792843200-1792854000@bppa-nb.com
SUMMARY:Chili Cook-Off
DESCRIPTION:
URL:https://bppa-nb.com/event/chili-cook-off-2/
LOCATION:L Street Park\, 327 L Street\, Newport Beach\, CA\, 92661\, United States
ATTACH;FMTTYPE=image/jpeg:https://bppa-nb.com/wp-content/uploads/2022/12/118_1845-1024x768-1-e1769305938315.jpg
ORGANIZER;CN="Christy Ruppert":MAILTO:christyruppert@gmail.com
END:VEVENT
BEGIN:VEVENT
DTSTART;TZID=America/Los_Angeles:20261217T173000
DTEND;TZID=America/Los_Angeles:20261217T203000
DTSTAMP:20260423T041959
CREATED:20260125T014224Z
LAST-MODIFIED:20260125T015121Z
UID:10000204-1797528600-1797539400@bppa-nb.com
SUMMARY:Boat Parade & Toy Drive
DESCRIPTION:
URL:https://bppa-nb.com/event/boat-parade-toy-drive-2/
LOCATION:Bay Beach\, 2200 Channel Rd\, Newport Beach\, CA\, 92661\, United States
ATTACH;FMTTYPE=image/jpeg:https://bppa-nb.com/wp-content/uploads/2022/11/Christmas-Boat-Parade-e1769305873407.jpg
ORGANIZER;CN="Christy Ruppert":MAILTO:christyruppert@gmail.com
END:VEVENT
END:VCALENDAR