BEGIN:VCALENDAR
VERSION:2.0
PRODID:-//Balboa Peninsula Point Association - ECPv6.15.20//NONSGML v1.0//EN
CALSCALE:GREGORIAN
METHOD:PUBLISH
X-WR-CALNAME:Balboa Peninsula Point Association
X-ORIGINAL-URL:https://bppa-nb.com
X-WR-CALDESC:Events for Balboa Peninsula Point Association
REFRESH-INTERVAL;VALUE=DURATION:PT1H
X-Robots-Tag:noindex
X-PUBLISHED-TTL:PT1H
BEGIN:VTIMEZONE
TZID:America/Los_Angeles
BEGIN:DAYLIGHT
TZOFFSETFROM:-0800
TZOFFSETTO:-0700
TZNAME:PDT
DTSTART:20240310T100000
END:DAYLIGHT
BEGIN:STANDARD
TZOFFSETFROM:-0700
TZOFFSETTO:-0800
TZNAME:PST
DTSTART:20241103T090000
END:STANDARD
BEGIN:DAYLIGHT
TZOFFSETFROM:-0800
TZOFFSETTO:-0700
TZNAME:PDT
DTSTART:20250309T100000
END:DAYLIGHT
BEGIN:STANDARD
TZOFFSETFROM:-0700
TZOFFSETTO:-0800
TZNAME:PST
DTSTART:20251102T090000
END:STANDARD
BEGIN:DAYLIGHT
TZOFFSETFROM:-0800
TZOFFSETTO:-0700
TZNAME:PDT
DTSTART:20260308T100000
END:DAYLIGHT
BEGIN:STANDARD
TZOFFSETFROM:-0700
TZOFFSETTO:-0800
TZNAME:PST
DTSTART:20261101T090000
END:STANDARD
END:VTIMEZONE
BEGIN:VEVENT
DTSTART;TZID=America/Los_Angeles:20250617T080000
DTEND;TZID=America/Los_Angeles:20250617T083000
DTSTAMP:20260423T155828
CREATED:20250525T220012Z
LAST-MODIFIED:20250605T205419Z
UID:10000002-1750147200-1750149000@bppa-nb.com
SUMMARY:Junior Guard Send-Off Tradition
DESCRIPTION:We will be hosting a JG meet-up at L Street Park for all the Peninsula Point JGs on their first day.  This is a great way for all our JGs and families to meet each other\, eat some donuts\, and bike together.
URL:https://bppa-nb.com/event/junior-guard-send-off-tradition/
LOCATION:L Street Park\, 327 L Street\, Newport Beach\, CA\, 92661\, United States
ATTACH;FMTTYPE=image/jpeg:https://bppa-nb.com/wp-content/uploads/2023/04/IMG_3644-1-e1749157747493.jpg
ORGANIZER;CN="Christy Ruppert":MAILTO:christyruppert@gmail.com
END:VEVENT
BEGIN:VEVENT
DTSTART;TZID=America/Los_Angeles:20250613T170000
DTEND;TZID=America/Los_Angeles:20250613T200000
DTSTAMP:20260423T155828
CREATED:20250525T215900Z
LAST-MODIFIED:20250526T192950Z
UID:10000001-1749834000-1749844800@bppa-nb.com
SUMMARY:Membership Drive & Summer Kickoff
DESCRIPTION:
URL:https://bppa-nb.com/event/membership-drive-summer-kickoff/
LOCATION:Bay Beach\, 2200 Channel Rd\, Newport Beach\, CA\, 92661\, United States
ATTACH;FMTTYPE=image/png:https://bppa-nb.com/wp-content/uploads/2025/05/Memberhsip-Drive-e1749157666612.png
ORGANIZER;CN="Christy Ruppert":MAILTO:christyruppert@gmail.com
END:VEVENT
BEGIN:VEVENT
DTSTART;TZID=America/Los_Angeles:20250605T200000
DTEND;TZID=America/Los_Angeles:20250605T220000
DTSTAMP:20260423T155828
CREATED:20250605T210055Z
LAST-MODIFIED:20250605T210055Z
UID:10000130-1749153600-1749160800@bppa-nb.com
SUMMARY:Movie Night
DESCRIPTION:
URL:https://bppa-nb.com/event/movie-night/
LOCATION:L Street Park\, 327 L Street\, Newport Beach\, CA\, 92661\, United States
ATTACH;FMTTYPE=image/jpeg:https://bppa-nb.com/wp-content/uploads/2025/06/BPPA-4th-of-July-Events-week.jpg
END:VEVENT
END:VCALENDAR