BEGIN:VCALENDAR
VERSION:2.0
PRODID:-//Balboa Peninsula Point Association - ECPv6.15.20//NONSGML v1.0//EN
CALSCALE:GREGORIAN
METHOD:PUBLISH
X-WR-CALNAME:Balboa Peninsula Point Association
X-ORIGINAL-URL:https://bppa-nb.com
X-WR-CALDESC:Events for Balboa Peninsula Point Association
REFRESH-INTERVAL;VALUE=DURATION:PT1H
X-Robots-Tag:noindex
X-PUBLISHED-TTL:PT1H
BEGIN:VTIMEZONE
TZID:America/Los_Angeles
BEGIN:DAYLIGHT
TZOFFSETFROM:-0800
TZOFFSETTO:-0700
TZNAME:PDT
DTSTART:20250309T100000
END:DAYLIGHT
BEGIN:STANDARD
TZOFFSETFROM:-0700
TZOFFSETTO:-0800
TZNAME:PST
DTSTART:20251102T090000
END:STANDARD
BEGIN:DAYLIGHT
TZOFFSETFROM:-0800
TZOFFSETTO:-0700
TZNAME:PDT
DTSTART:20260308T100000
END:DAYLIGHT
BEGIN:STANDARD
TZOFFSETFROM:-0700
TZOFFSETTO:-0800
TZNAME:PST
DTSTART:20261101T090000
END:STANDARD
BEGIN:DAYLIGHT
TZOFFSETFROM:-0800
TZOFFSETTO:-0700
TZNAME:PDT
DTSTART:20270314T100000
END:DAYLIGHT
BEGIN:STANDARD
TZOFFSETFROM:-0700
TZOFFSETTO:-0800
TZNAME:PST
DTSTART:20271107T090000
END:STANDARD
END:VTIMEZONE
BEGIN:VEVENT
DTSTART;TZID=America/Los_Angeles:20260612T170000
DTEND;TZID=America/Los_Angeles:20260612T200000
DTSTAMP:20260423T083311
CREATED:20260125T014546Z
LAST-MODIFIED:20260125T014546Z
UID:10000227-1781283600-1781294400@bppa-nb.com
SUMMARY:Membership Drive & Summer Kickoff
DESCRIPTION:
URL:https://bppa-nb.com/event/membership-drive-summer-kickoff-2/
LOCATION:Bay Beach\, 2200 Channel Rd\, Newport Beach\, CA\, 92661\, United States
ATTACH;FMTTYPE=image/png:https://bppa-nb.com/wp-content/uploads/2025/05/Memberhsip-Drive-e1749157666612.png
ORGANIZER;CN="Christy Ruppert":MAILTO:christyruppert@gmail.com
END:VEVENT
BEGIN:VEVENT
DTSTART;TZID=America/Los_Angeles:20260616T080000
DTEND;TZID=America/Los_Angeles:20260616T083000
DTSTAMP:20260423T083311
CREATED:20260125T014500Z
LAST-MODIFIED:20260125T014500Z
UID:10000226-1781596800-1781598600@bppa-nb.com
SUMMARY:Junior Guard Send-Off Tradition
DESCRIPTION:We will be hosting a JG meet-up at L Street Park for all the Peninsula Point JGs on their first day.  This is a great way for all our JGs and families to meet each other\, eat some donuts\, and bike together.
URL:https://bppa-nb.com/event/junior-guard-send-off-tradition-2/
LOCATION:L Street Park\, 327 L Street\, Newport Beach\, CA\, 92661\, United States
ATTACH;FMTTYPE=image/jpeg:https://bppa-nb.com/wp-content/uploads/2023/04/IMG_3644-1-e1749157747493.jpg
ORGANIZER;CN="Christy Ruppert":MAILTO:christyruppert@gmail.com
END:VEVENT
BEGIN:VEVENT
DTSTART;TZID=America/Los_Angeles:20260619T180000
DTEND;TZID=America/Los_Angeles:20260619T200000
DTSTAMP:20260423T083311
CREATED:20260125T014354Z
LAST-MODIFIED:20260125T014354Z
UID:10000216-1781892000-1781899200@bppa-nb.com
SUMMARY:Friday Nights at the Bay
DESCRIPTION:Come join us each Friday this summer! The BBQ is open to use\, make dinner for your family\, play games and hang out with your fellow BPPA neighbors at the bay.
URL:https://bppa-nb.com/event/friday-nights-at-the-bay-2/2026-06-19/
LOCATION:Bay Beach\, 2200 Channel Rd\, Newport Beach\, CA\, 92661\, United States
ATTACH;FMTTYPE=image/png:https://bppa-nb.com/wp-content/uploads/2025/05/ChatGPT-Image-May-26-2025-12_41_48-PM-e1749157867700.png
ORGANIZER;CN="Christy Ruppert":MAILTO:christyruppert@gmail.com
END:VEVENT
BEGIN:VEVENT
DTSTART;TZID=America/Los_Angeles:20260626T180000
DTEND;TZID=America/Los_Angeles:20260626T200000
DTSTAMP:20260423T083311
CREATED:20260125T014354Z
LAST-MODIFIED:20260125T014354Z
UID:10000217-1782496800-1782504000@bppa-nb.com
SUMMARY:Friday Nights at the Bay
DESCRIPTION:Come join us each Friday this summer! The BBQ is open to use\, make dinner for your family\, play games and hang out with your fellow BPPA neighbors at the bay.
URL:https://bppa-nb.com/event/friday-nights-at-the-bay-2/2026-06-26/
LOCATION:Bay Beach\, 2200 Channel Rd\, Newport Beach\, CA\, 92661\, United States
ATTACH;FMTTYPE=image/png:https://bppa-nb.com/wp-content/uploads/2025/05/ChatGPT-Image-May-26-2025-12_41_48-PM-e1749157867700.png
ORGANIZER;CN="Christy Ruppert":MAILTO:christyruppert@gmail.com
END:VEVENT
END:VCALENDAR